BEGIN:VCALENDAR
VERSION:2.0
PRODID:-//Job Müller AG - ECPv6.8.1//NONSGML v1.0//EN
CALSCALE:GREGORIAN
METHOD:PUBLISH
X-ORIGINAL-URL:https://beta.jobmueller.ch
X-WR-CALDESC:Veranstaltungen für Job Müller AG
REFRESH-INTERVAL;VALUE=DURATION:PT1H
X-Robots-Tag:noindex
X-PUBLISHED-TTL:PT1H
BEGIN:VTIMEZONE
TZID:Europe/Zurich
BEGIN:DAYLIGHT
TZOFFSETFROM:+0100
TZOFFSETTO:+0200
TZNAME:CEST
DTSTART:20230326T010000
END:DAYLIGHT
BEGIN:STANDARD
TZOFFSETFROM:+0200
TZOFFSETTO:+0100
TZNAME:CET
DTSTART:20231029T010000
END:STANDARD
END:VTIMEZONE
BEGIN:VEVENT
DTSTART;TZID=Europe/Zurich:20231214T190000
DTEND;TZID=Europe/Zurich:20231214T210000
DTSTAMP:20260423T070830
CREATED:20250107T065249Z
LAST-MODIFIED:20250107T065309Z
UID:456-1702580400-1702587600@beta.jobmueller.ch
SUMMARY:Konzert in der Schreinerei
DESCRIPTION:Konzert in der Schreinerei
URL:https://beta.jobmueller.ch/event/konzert-in-der-schreinerei/
ATTACH;FMTTYPE=image/jpeg:https://beta.jobmueller.ch/wp-content/uploads/2025/01/Konzert-in-der-Schreinerei-1.jpg
END:VEVENT
END:VCALENDAR