BEGIN:VCALENDAR
VERSION:2.0
PRODID:-//Job Müller AG - ECPv6.8.1//NONSGML v1.0//EN
CALSCALE:GREGORIAN
METHOD:PUBLISH
X-WR-CALNAME:Job Müller AG
X-ORIGINAL-URL:https://beta.jobmueller.ch
X-WR-CALDESC:Veranstaltungen für Job Müller AG
REFRESH-INTERVAL;VALUE=DURATION:PT1H
X-Robots-Tag:noindex
X-PUBLISHED-TTL:PT1H
BEGIN:VTIMEZONE
TZID:Europe/Zurich
BEGIN:DAYLIGHT
TZOFFSETFROM:+0100
TZOFFSETTO:+0200
TZNAME:CEST
DTSTART:20230326T010000
END:DAYLIGHT
BEGIN:STANDARD
TZOFFSETFROM:+0200
TZOFFSETTO:+0100
TZNAME:CET
DTSTART:20231029T010000
END:STANDARD
END:VTIMEZONE
BEGIN:VEVENT
DTSTART;VALUE=DATE:20230513
DTEND;VALUE=DATE:20230514
DTSTAMP:20260423T195533
CREATED:20250108T103227Z
LAST-MODIFIED:20250108T103227Z
UID:465-1683936000-1684022399@beta.jobmueller.ch
SUMMARY:Schreinern in der Werkstatt
DESCRIPTION:
URL:https://beta.jobmueller.ch/event/schreinern-in-der-werkstatt/
ATTACH;FMTTYPE=image/jpeg:https://beta.jobmueller.ch/wp-content/uploads/2025/01/130cde79-b3cf-4417-9ede-0d5953e0ffdd-e1736332334760.jpg
END:VEVENT
END:VCALENDAR